BEGIN:VCALENDAR
VERSION:2.0
PRODID:-//Henry Community Health - ECPv6.15.18//NONSGML v1.0//EN
CALSCALE:GREGORIAN
METHOD:PUBLISH
X-ORIGINAL-URL:https://www.hchcares.org
X-WR-CALDESC:Events for Henry Community Health
REFRESH-INTERVAL;VALUE=DURATION:PT1H
X-Robots-Tag:noindex
X-PUBLISHED-TTL:PT1H
BEGIN:VTIMEZONE
TZID:America/New_York
BEGIN:DAYLIGHT
TZOFFSETFROM:-0500
TZOFFSETTO:-0400
TZNAME:EDT
DTSTART:20250309T070000
END:DAYLIGHT
BEGIN:STANDARD
TZOFFSETFROM:-0400
TZOFFSETTO:-0500
TZNAME:EST
DTSTART:20251102T060000
END:STANDARD
BEGIN:DAYLIGHT
TZOFFSETFROM:-0500
TZOFFSETTO:-0400
TZNAME:EDT
DTSTART:20260308T070000
END:DAYLIGHT
BEGIN:STANDARD
TZOFFSETFROM:-0400
TZOFFSETTO:-0500
TZNAME:EST
DTSTART:20261101T060000
END:STANDARD
BEGIN:DAYLIGHT
TZOFFSETFROM:-0500
TZOFFSETTO:-0400
TZNAME:EDT
DTSTART:20270314T070000
END:DAYLIGHT
BEGIN:STANDARD
TZOFFSETFROM:-0400
TZOFFSETTO:-0500
TZNAME:EST
DTSTART:20271107T060000
END:STANDARD
END:VTIMEZONE
BEGIN:VEVENT
DTSTART;TZID=America/New_York:20260422T060000
DTEND;TZID=America/New_York:20260422T070000
DTSTAMP:20260424T053245
CREATED:20260311T190612Z
LAST-MODIFIED:20260311T190612Z
UID:3629-1776837600-1776841200@www.hchcares.org
SUMMARY:Water Aerobics
DESCRIPTION:Use gentle water resistance to engage in low-impact aerobic activities and toning. The exercises will strengthen the heart while eliminating stress on the body.
URL:https://www.hchcares.org/event/water-aerobics-343/
LOCATION:HealthRidge Wellness Center\, 2200 Forest Ridge Parkway\, Suite 110\, New Castle\, IN\, 47362\, United States
CATEGORIES:Aerobic & Aquatics
END:VEVENT
BEGIN:VEVENT
DTSTART;TZID=America/New_York:20260422T070000
DTEND;TZID=America/New_York:20260422T080000
DTSTAMP:20260424T053245
CREATED:20260311T191301Z
LAST-MODIFIED:20260311T191301Z
UID:3656-1776841200-1776844800@www.hchcares.org
SUMMARY:Water Aerobics
DESCRIPTION:Use gentle water resistance to engage in low-impact aerobic activities and toning. The exercises will strengthen the heart while eliminating stress on the body.
URL:https://www.hchcares.org/event/water-aerobics-370/
LOCATION:HealthRidge Wellness Center\, 2200 Forest Ridge Parkway\, Suite 110\, New Castle\, IN\, 47362\, United States
CATEGORIES:Aerobic & Aquatics
END:VEVENT
BEGIN:VEVENT
DTSTART;TZID=America/New_York:20260422T080000
DTEND;TZID=America/New_York:20260422T090000
DTSTAMP:20260424T053245
CREATED:20260311T190103Z
LAST-MODIFIED:20260311T190103Z
UID:3604-1776844800-1776848400@www.hchcares.org
SUMMARY:Water Aerobics
DESCRIPTION:Use gentle water resistance to engage in low-impact aerobic activities and toning. The exercises will strengthen the heart while eliminating stress on the body.
URL:https://www.hchcares.org/event/water-aerobics-318/
LOCATION:HealthRidge Wellness Center\, 2200 Forest Ridge Parkway\, Suite 110\, New Castle\, IN\, 47362\, United States
CATEGORIES:Aerobic & Aquatics
END:VEVENT
BEGIN:VEVENT
DTSTART;TZID=America/New_York:20260422T100000
DTEND;TZID=America/New_York:20260422T110000
DTSTAMP:20260424T053245
CREATED:20260311T184540Z
LAST-MODIFIED:20260311T184541Z
UID:3486-1776852000-1776855600@www.hchcares.org
SUMMARY:Water Walking 1
DESCRIPTION:Water resistance provides a gentle challenge in this walking-centered class. There will be a variety of movements: forward\, backward\, and laterally. It is designed for gaining flexibility and improving your gait\, so it is perfect for beginners or those who have recently finished rehabilitation.
URL:https://www.hchcares.org/event/water-walking-1-101/
LOCATION:HealthRidge Wellness Center\, 2200 Forest Ridge Parkway\, Suite 110\, New Castle\, IN\, 47362\, United States
CATEGORIES:Aerobic & Aquatics
END:VEVENT
BEGIN:VEVENT
DTSTART;TZID=America/New_York:20260422T173000
DTEND;TZID=America/New_York:20260422T183000
DTSTAMP:20260424T053245
CREATED:20260311T185919Z
LAST-MODIFIED:20260311T185919Z
UID:3586-1776879000-1776882600@www.hchcares.org
SUMMARY:Water Aerobics
DESCRIPTION:Use gentle water resistance to engage in low-impact aerobic activities and toning. The exercises will strengthen the heart while eliminating stress on the body.
URL:https://www.hchcares.org/event/water-aerobics-300/
LOCATION:HealthRidge Wellness Center\, 2200 Forest Ridge Parkway\, Suite 110\, New Castle\, IN\, 47362\, United States
CATEGORIES:Aerobic & Aquatics
END:VEVENT
END:VCALENDAR