BEGIN:VCALENDAR
VERSION:2.0
PRODID:-//Henry Community Health - ECPv6.15.18//NONSGML v1.0//EN
CALSCALE:GREGORIAN
METHOD:PUBLISH
X-ORIGINAL-URL:https://www.hchcares.org
X-WR-CALDESC:Events for Henry Community Health
REFRESH-INTERVAL;VALUE=DURATION:PT1H
X-Robots-Tag:noindex
X-PUBLISHED-TTL:PT1H
BEGIN:VTIMEZONE
TZID:America/New_York
BEGIN:DAYLIGHT
TZOFFSETFROM:-0500
TZOFFSETTO:-0400
TZNAME:EDT
DTSTART:20240310T070000
END:DAYLIGHT
BEGIN:STANDARD
TZOFFSETFROM:-0400
TZOFFSETTO:-0500
TZNAME:EST
DTSTART:20241103T060000
END:STANDARD
BEGIN:DAYLIGHT
TZOFFSETFROM:-0500
TZOFFSETTO:-0400
TZNAME:EDT
DTSTART:20250309T070000
END:DAYLIGHT
BEGIN:STANDARD
TZOFFSETFROM:-0400
TZOFFSETTO:-0500
TZNAME:EST
DTSTART:20251102T060000
END:STANDARD
BEGIN:DAYLIGHT
TZOFFSETFROM:-0500
TZOFFSETTO:-0400
TZNAME:EDT
DTSTART:20260308T070000
END:DAYLIGHT
BEGIN:STANDARD
TZOFFSETFROM:-0400
TZOFFSETTO:-0500
TZNAME:EST
DTSTART:20261101T060000
END:STANDARD
END:VTIMEZONE
BEGIN:VEVENT
DTSTART;TZID=America/New_York:20250516T060000
DTEND;TZID=America/New_York:20250516T070000
DTSTAMP:20260422T101044
CREATED:20250321T175505Z
LAST-MODIFIED:20250326T192120Z
UID:1940-1747375200-1747378800@www.hchcares.org
SUMMARY:Water Aerobics
DESCRIPTION:Use gentle water resistance to engage in low-impact aerobic activities and toning. The exercises will strengthen the heart while eliminating stress on the body.
URL:https://www.hchcares.org/event/water-aerobics-7/
LOCATION:HealthRidge Wellness Center\, 2200 Forest Ridge Parkway\, Suite 110\, New Castle\, IN\, 47362\, United States
CATEGORIES:Aerobic & Aquatics
END:VEVENT
BEGIN:VEVENT
DTSTART;TZID=America/New_York:20250516T070000
DTEND;TZID=America/New_York:20250516T080000
DTSTAMP:20260422T101044
CREATED:20250321T180036Z
LAST-MODIFIED:20250326T191940Z
UID:1964-1747378800-1747382400@www.hchcares.org
SUMMARY:Water Aerobics
DESCRIPTION:Use gentle water resistance to engage in low-impact aerobic activities and toning. The exercises will strengthen the heart while eliminating stress on the body.
URL:https://www.hchcares.org/event/water-aerobics-31/
LOCATION:HealthRidge Wellness Center\, 2200 Forest Ridge Parkway\, Suite 110\, New Castle\, IN\, 47362\, United States
CATEGORIES:Aerobic & Aquatics
END:VEVENT
BEGIN:VEVENT
DTSTART;TZID=America/New_York:20250516T080000
DTEND;TZID=America/New_York:20250516T090000
DTSTAMP:20260422T101044
CREATED:20250321T180948Z
LAST-MODIFIED:20250326T191923Z
UID:1989-1747382400-1747386000@www.hchcares.org
SUMMARY:Water Aerobics
DESCRIPTION:Use gentle water resistance to engage in low-impact aerobic activities and toning. The exercises will strengthen the heart while eliminating stress on the body.
URL:https://www.hchcares.org/event/water-aerobics-55/
LOCATION:HealthRidge Wellness Center\, 2200 Forest Ridge Parkway\, Suite 110\, New Castle\, IN\, 47362\, United States
CATEGORIES:Aerobic & Aquatics
END:VEVENT
BEGIN:VEVENT
DTSTART;TZID=America/New_York:20250516T100000
DTEND;TZID=America/New_York:20250516T160000
DTSTAMP:20260422T101044
CREATED:20250321T182227Z
LAST-MODIFIED:20250326T191909Z
UID:2015-1747389600-1747411200@www.hchcares.org
SUMMARY:Water Walking 1
DESCRIPTION:Water resistance provides a gentle challenge in this walking-centered class. There will be a variety of movements: forward\, backward\, and laterally. It is designed for gaining flexibility and improving your gait\, so it is perfect for beginners or those who have recently finished rehabilitation.
URL:https://www.hchcares.org/event/water-walking-1-6/
LOCATION:HealthRidge Wellness Center\, 2200 Forest Ridge Parkway\, Suite 110\, New Castle\, IN\, 47362\, United States
CATEGORIES:Aerobic & Aquatics
END:VEVENT
END:VCALENDAR