BEGIN:VCALENDAR
VERSION:2.0
PRODID:-//Henry Community Health - ECPv6.15.18//NONSGML v1.0//EN
CALSCALE:GREGORIAN
METHOD:PUBLISH
X-WR-CALNAME:Henry Community Health
X-ORIGINAL-URL:https://www.hchcares.org
X-WR-CALDESC:Events for Henry Community Health
REFRESH-INTERVAL;VALUE=DURATION:PT1H
X-Robots-Tag:noindex
X-PUBLISHED-TTL:PT1H
BEGIN:VTIMEZONE
TZID:America/New_York
BEGIN:DAYLIGHT
TZOFFSETFROM:-0500
TZOFFSETTO:-0400
TZNAME:EDT
DTSTART:20240310T070000
END:DAYLIGHT
BEGIN:STANDARD
TZOFFSETFROM:-0400
TZOFFSETTO:-0500
TZNAME:EST
DTSTART:20241103T060000
END:STANDARD
BEGIN:DAYLIGHT
TZOFFSETFROM:-0500
TZOFFSETTO:-0400
TZNAME:EDT
DTSTART:20250309T070000
END:DAYLIGHT
BEGIN:STANDARD
TZOFFSETFROM:-0400
TZOFFSETTO:-0500
TZNAME:EST
DTSTART:20251102T060000
END:STANDARD
BEGIN:DAYLIGHT
TZOFFSETFROM:-0500
TZOFFSETTO:-0400
TZNAME:EDT
DTSTART:20260308T070000
END:DAYLIGHT
BEGIN:STANDARD
TZOFFSETFROM:-0400
TZOFFSETTO:-0500
TZNAME:EST
DTSTART:20261101T060000
END:STANDARD
END:VTIMEZONE
BEGIN:VEVENT
DTSTART;TZID=America/New_York:20250603T100000
DTEND;TZID=America/New_York:20250603T110000
DTSTAMP:20260424T084319
CREATED:20250321T192147Z
LAST-MODIFIED:20250326T192715Z
UID:2151-1748944800-1748948400@www.hchcares.org
SUMMARY:SilverSplash
DESCRIPTION:Is a fun\, low-intensity water exercise class using a splash board to increase strength and endurance. This class is a prescription-based program specifically designed for the Silver Sneaker participants.
URL:https://www.hchcares.org/event/silversplash-9/
LOCATION:HealthRidge Wellness Center\, 2200 Forest Ridge Parkway\, Suite 110\, New Castle\, IN\, 47362\, United States
CATEGORIES:Prescription Wellness
END:VEVENT
BEGIN:VEVENT
DTSTART;TZID=America/New_York:20250603T160000
DTEND;TZID=America/New_York:20250603T170000
DTSTAMP:20260424T084319
CREATED:20250321T192448Z
LAST-MODIFIED:20250326T192418Z
UID:2167-1748966400-1748970000@www.hchcares.org
SUMMARY:SilverSplash
DESCRIPTION:Is a fun\, low-intensity water exercise class using a splash board to increase strength and endurance. This class is a prescription-based program specifically designed for the Silver Sneaker participants.
URL:https://www.hchcares.org/event/silversplash-25/
LOCATION:HealthRidge Wellness Center\, 2200 Forest Ridge Parkway\, Suite 110\, New Castle\, IN\, 47362\, United States
CATEGORIES:Prescription Wellness
END:VEVENT
BEGIN:VEVENT
DTSTART;TZID=America/New_York:20250605T100000
DTEND;TZID=America/New_York:20250605T110000
DTSTAMP:20260424T084319
CREATED:20250321T192148Z
LAST-MODIFIED:20250326T192715Z
UID:2152-1749117600-1749121200@www.hchcares.org
SUMMARY:SilverSplash
DESCRIPTION:Is a fun\, low-intensity water exercise class using a splash board to increase strength and endurance. This class is a prescription-based program specifically designed for the Silver Sneaker participants.
URL:https://www.hchcares.org/event/silversplash-10/
LOCATION:HealthRidge Wellness Center\, 2200 Forest Ridge Parkway\, Suite 110\, New Castle\, IN\, 47362\, United States
CATEGORIES:Prescription Wellness
END:VEVENT
BEGIN:VEVENT
DTSTART;TZID=America/New_York:20250605T160000
DTEND;TZID=America/New_York:20250605T170000
DTSTAMP:20260424T084319
CREATED:20250321T192448Z
LAST-MODIFIED:20250326T192435Z
UID:2168-1749139200-1749142800@www.hchcares.org
SUMMARY:SilverSplash
DESCRIPTION:Is a fun\, low-intensity water exercise class using a splash board to increase strength and endurance. This class is a prescription-based program specifically designed for the Silver Sneaker participants.
URL:https://www.hchcares.org/event/silversplash-26/
LOCATION:HealthRidge Wellness Center\, 2200 Forest Ridge Parkway\, Suite 110\, New Castle\, IN\, 47362\, United States
CATEGORIES:Prescription Wellness
END:VEVENT
BEGIN:VEVENT
DTSTART;TZID=America/New_York:20250610T100000
DTEND;TZID=America/New_York:20250610T110000
DTSTAMP:20260424T084319
CREATED:20250321T192148Z
LAST-MODIFIED:20250326T192715Z
UID:2153-1749549600-1749553200@www.hchcares.org
SUMMARY:SilverSplash
DESCRIPTION:Is a fun\, low-intensity water exercise class using a splash board to increase strength and endurance. This class is a prescription-based program specifically designed for the Silver Sneaker participants.
URL:https://www.hchcares.org/event/silversplash-11/
LOCATION:HealthRidge Wellness Center\, 2200 Forest Ridge Parkway\, Suite 110\, New Castle\, IN\, 47362\, United States
CATEGORIES:Prescription Wellness
END:VEVENT
BEGIN:VEVENT
DTSTART;TZID=America/New_York:20250610T160000
DTEND;TZID=America/New_York:20250610T170000
DTSTAMP:20260424T084319
CREATED:20250321T192448Z
LAST-MODIFIED:20250326T192356Z
UID:2169-1749571200-1749574800@www.hchcares.org
SUMMARY:SilverSplash
DESCRIPTION:Is a fun\, low-intensity water exercise class using a splash board to increase strength and endurance. This class is a prescription-based program specifically designed for the Silver Sneaker participants.
URL:https://www.hchcares.org/event/silversplash-27/
LOCATION:HealthRidge Wellness Center\, 2200 Forest Ridge Parkway\, Suite 110\, New Castle\, IN\, 47362\, United States
CATEGORIES:Prescription Wellness
END:VEVENT
BEGIN:VEVENT
DTSTART;TZID=America/New_York:20250612T100000
DTEND;TZID=America/New_York:20250612T110000
DTSTAMP:20260424T084319
CREATED:20250321T192148Z
LAST-MODIFIED:20250326T192715Z
UID:2154-1749722400-1749726000@www.hchcares.org
SUMMARY:SilverSplash
DESCRIPTION:Is a fun\, low-intensity water exercise class using a splash board to increase strength and endurance. This class is a prescription-based program specifically designed for the Silver Sneaker participants.
URL:https://www.hchcares.org/event/silversplash-12/
LOCATION:HealthRidge Wellness Center\, 2200 Forest Ridge Parkway\, Suite 110\, New Castle\, IN\, 47362\, United States
CATEGORIES:Prescription Wellness
END:VEVENT
BEGIN:VEVENT
DTSTART;TZID=America/New_York:20250612T160000
DTEND;TZID=America/New_York:20250612T170000
DTSTAMP:20260424T084319
CREATED:20250321T192547Z
LAST-MODIFIED:20250326T193017Z
UID:2170-1749744000-1749747600@www.hchcares.org
SUMMARY:SilverSplash
DESCRIPTION:Is a fun\, low-intensity water exercise class using a splash board to increase strength and endurance. This class is a prescription-based program specifically designed for the Silver Sneaker participants.
URL:https://www.hchcares.org/event/silversplash-28/
LOCATION:HealthRidge Wellness Center\, 2200 Forest Ridge Parkway\, Suite 110\, New Castle\, IN\, 47362\, United States
CATEGORIES:Aerobic & Aquatics,Prescription Wellness
END:VEVENT
BEGIN:VEVENT
DTSTART;TZID=America/New_York:20250617T100000
DTEND;TZID=America/New_York:20250617T110000
DTSTAMP:20260424T084319
CREATED:20250321T192247Z
LAST-MODIFIED:20250326T192248Z
UID:2155-1750154400-1750158000@www.hchcares.org
SUMMARY:SilverSplash
DESCRIPTION:Is a fun\, low-intensity water exercise class using a splash board to increase strength and endurance. This class is a prescription-based program specifically designed for the Silver Sneaker participants.
URL:https://www.hchcares.org/event/silversplash-13/
LOCATION:HealthRidge Wellness Center\, 2200 Forest Ridge Parkway\, Suite 110\, New Castle\, IN\, 47362\, United States
CATEGORIES:Prescription Wellness
END:VEVENT
BEGIN:VEVENT
DTSTART;TZID=America/New_York:20250617T160000
DTEND;TZID=America/New_York:20250617T170000
DTSTAMP:20260424T084319
CREATED:20250321T192547Z
LAST-MODIFIED:20250326T192335Z
UID:2171-1750176000-1750179600@www.hchcares.org
SUMMARY:SilverSplash
DESCRIPTION:Is a fun\, low-intensity water exercise class using a splash board to increase strength and endurance. This class is a prescription-based program specifically designed for the Silver Sneaker participants.
URL:https://www.hchcares.org/event/silversplash-29/
LOCATION:HealthRidge Wellness Center\, 2200 Forest Ridge Parkway\, Suite 110\, New Castle\, IN\, 47362\, United States
CATEGORIES:Prescription Wellness
END:VEVENT
BEGIN:VEVENT
DTSTART;TZID=America/New_York:20250619T100000
DTEND;TZID=America/New_York:20250619T110000
DTSTAMP:20260424T084319
CREATED:20250321T192247Z
LAST-MODIFIED:20250326T192248Z
UID:2156-1750327200-1750330800@www.hchcares.org
SUMMARY:SilverSplash
DESCRIPTION:Is a fun\, low-intensity water exercise class using a splash board to increase strength and endurance. This class is a prescription-based program specifically designed for the Silver Sneaker participants.
URL:https://www.hchcares.org/event/silversplash-14/
LOCATION:HealthRidge Wellness Center\, 2200 Forest Ridge Parkway\, Suite 110\, New Castle\, IN\, 47362\, United States
CATEGORIES:Prescription Wellness
END:VEVENT
BEGIN:VEVENT
DTSTART;TZID=America/New_York:20250619T160000
DTEND;TZID=America/New_York:20250619T170000
DTSTAMP:20260424T084319
CREATED:20250321T192548Z
LAST-MODIFIED:20250326T192325Z
UID:2172-1750348800-1750352400@www.hchcares.org
SUMMARY:SilverSplash
DESCRIPTION:Is a fun\, low-intensity water exercise class using a splash board to increase strength and endurance. This class is a prescription-based program specifically designed for the Silver Sneaker participants.
URL:https://www.hchcares.org/event/silversplash-30/
LOCATION:HealthRidge Wellness Center\, 2200 Forest Ridge Parkway\, Suite 110\, New Castle\, IN\, 47362\, United States
CATEGORIES:Prescription Wellness
END:VEVENT
BEGIN:VEVENT
DTSTART;TZID=America/New_York:20250624T100000
DTEND;TZID=America/New_York:20250624T110000
DTSTAMP:20260424T084319
CREATED:20250321T192248Z
LAST-MODIFIED:20250326T192248Z
UID:2157-1750759200-1750762800@www.hchcares.org
SUMMARY:SilverSplash
DESCRIPTION:Is a fun\, low-intensity water exercise class using a splash board to increase strength and endurance. This class is a prescription-based program specifically designed for the Silver Sneaker participants.
URL:https://www.hchcares.org/event/silversplash-15/
LOCATION:HealthRidge Wellness Center\, 2200 Forest Ridge Parkway\, Suite 110\, New Castle\, IN\, 47362\, United States
CATEGORIES:Prescription Wellness
END:VEVENT
BEGIN:VEVENT
DTSTART;TZID=America/New_York:20250624T160000
DTEND;TZID=America/New_York:20250624T170000
DTSTAMP:20260424T084319
CREATED:20250321T192548Z
LAST-MODIFIED:20250326T192309Z
UID:2173-1750780800-1750784400@www.hchcares.org
SUMMARY:SilverSplash
DESCRIPTION:Is a fun\, low-intensity water exercise class using a splash board to increase strength and endurance. This class is a prescription-based program specifically designed for the Silver Sneaker participants.
URL:https://www.hchcares.org/event/silversplash-31/
LOCATION:HealthRidge Wellness Center\, 2200 Forest Ridge Parkway\, Suite 110\, New Castle\, IN\, 47362\, United States
CATEGORIES:Prescription Wellness
END:VEVENT
BEGIN:VEVENT
DTSTART;TZID=America/New_York:20250626T100000
DTEND;TZID=America/New_York:20250626T110000
DTSTAMP:20260424T084319
CREATED:20250321T192248Z
LAST-MODIFIED:20250326T192248Z
UID:2158-1750932000-1750935600@www.hchcares.org
SUMMARY:SilverSplash
DESCRIPTION:Is a fun\, low-intensity water exercise class using a splash board to increase strength and endurance. This class is a prescription-based program specifically designed for the Silver Sneaker participants.
URL:https://www.hchcares.org/event/silversplash-16/
LOCATION:HealthRidge Wellness Center\, 2200 Forest Ridge Parkway\, Suite 110\, New Castle\, IN\, 47362\, United States
CATEGORIES:Prescription Wellness
END:VEVENT
BEGIN:VEVENT
DTSTART;TZID=America/New_York:20250626T160000
DTEND;TZID=America/New_York:20250626T170000
DTSTAMP:20260424T084319
CREATED:20250321T192548Z
LAST-MODIFIED:20250326T192257Z
UID:2174-1750953600-1750957200@www.hchcares.org
SUMMARY:SilverSplash
DESCRIPTION:Is a fun\, low-intensity water exercise class using a splash board to increase strength and endurance. This class is a prescription-based program specifically designed for the Silver Sneaker participants.
URL:https://www.hchcares.org/event/silversplash-32/
LOCATION:HealthRidge Wellness Center\, 2200 Forest Ridge Parkway\, Suite 110\, New Castle\, IN\, 47362\, United States
CATEGORIES:Prescription Wellness
END:VEVENT
END:VCALENDAR